BEGIN:VCALENDAR
VERSION:2.0
PRODID:-//JTP - ECPv6.15.17.1//NONSGML v1.0//EN
CALSCALE:GREGORIAN
METHOD:PUBLISH
X-WR-CALNAME:JTP
X-ORIGINAL-URL:https://www.jtpunion.org
X-WR-CALDESC:Akce na JTP
REFRESH-INTERVAL;VALUE=DURATION:PT1H
X-Robots-Tag:noindex
X-PUBLISHED-TTL:PT1H
BEGIN:VTIMEZONE
TZID:Europe/Prague
BEGIN:DAYLIGHT
TZOFFSETFROM:+0100
TZOFFSETTO:+0200
TZNAME:CEST
DTSTART:20230326T010000
END:DAYLIGHT
BEGIN:STANDARD
TZOFFSETFROM:+0200
TZOFFSETTO:+0100
TZNAME:CET
DTSTART:20231029T010000
END:STANDARD
BEGIN:DAYLIGHT
TZOFFSETFROM:+0100
TZOFFSETTO:+0200
TZNAME:CEST
DTSTART:20240331T010000
END:DAYLIGHT
BEGIN:STANDARD
TZOFFSETFROM:+0200
TZOFFSETTO:+0100
TZNAME:CET
DTSTART:20241027T010000
END:STANDARD
BEGIN:DAYLIGHT
TZOFFSETFROM:+0100
TZOFFSETTO:+0200
TZNAME:CEST
DTSTART:20250330T010000
END:DAYLIGHT
BEGIN:STANDARD
TZOFFSETFROM:+0200
TZOFFSETTO:+0100
TZNAME:CET
DTSTART:20251026T010000
END:STANDARD
END:VTIMEZONE
BEGIN:VEVENT
DTSTART;TZID=Europe/Prague:20241207T000000
DTEND;TZID=Europe/Prague:20241207T235959
DTSTAMP:20260425T202220
CREATED:20241108T170559Z
LAST-MODIFIED:20241108T170559Z
UID:8939-1733529600-1733615999@www.jtpunion.org
SUMMARY:Přípravný kurz pro zájemce o absolvování vstupní zkoušky pro stávající i budoucí soudní tlumočníky a překladatele - PREZENČNĚ i ONLINE
DESCRIPTION:Stávající soudní tlumočníci a soudní překladatelé mají možnost „přelicencování“ do konce roku 2025. Kurz je určen pro všechny zájemce o absolvování vstupní zkoušky\, která je jednou z podmínek stanovených Ministerstvem spravedlnosti ČR pro zápis do Seznamu soudních tlumočníků a soudních překladatelů vedeného Ministerstvem.\nVíce informací zde: \nhttps://www.kstcr.cz/cz/akce/pripravny-kurz-pro-zajemce-o-absolvovani-vstupni-zkousky-pro-stavajici-i-budouci-soudni-tlumocniky-a-prekladatele-4
URL:https://www.jtpunion.org/udalost/pripravny-kurz-pro-zajemce-o-absolvovani-vstupni-zkousky-pro-stavajici-i-budouci-soudni-tlumocniky-a-prekladatele-prezencne-i-online/
END:VEVENT
BEGIN:VEVENT
DTSTART;TZID=Europe/Prague:20241217T200000
DTEND;TZID=Europe/Prague:20241217T210000
DTSTAMP:20260425T202220
CREATED:20241207T102545Z
LAST-MODIFIED:20241207T102545Z
UID:9013-1734465600-1734469200@www.jtpunion.org
SUMMARY:Soudní překlady v elektronické podobě v otázkách a odpovědích - online poradna zdarma
DESCRIPTION:JTP vás srdečně zve na online setkání k tématu soudních překladů v elektronické podobě\nCílem hodinového online setkání je ukázat e-úkon těm\, kdo ho ještě neviděl a odpovídat na otázky. Účast je zdarma. \nUkážeme vám\, jak vypadá e-úkon\, a kde se uplatní. Akce je určena nejen pro soudní překladatele\, ale i pro zájemce o jmenování. \n\nLink na připojení je zde \nTéma: Soudní překlady v elektronické podobě v otázkách a odpovědích.\nDatum a čas: Dec 17\, 2024 20:00 Prague Bratislava \nJTP is inviting you to a scheduled Zoom meeting. \nTopic: Soudní překlady v elektronické podobě v otázkách a odpovědích.\nTime: Dec 17\, 2024 20:00 Prague Bratislava \nJoin Zoom Meeting\nhttps://us06web.zoom.us/j/84915005152?pwd=fIuOFjF9qBh46AqoxmZpAHaStLVXsr.1 \nMeeting ID: 849 1500 5152\nPasscode: 636599 \n 
URL:https://www.jtpunion.org/udalost/soudni-preklady-v-elektronicke-podobe-v-otazkach-a-odpovedich-online-poradna-zdarma/
LOCATION:online
ATTACH;FMTTYPE=image/jpeg:https://www.jtpunion.org/wp-content/uploads/2024/12/a-modern-workspace-featuring-a-laptop-smartphone-tablet-and-sunglasses-illustrating-digital-connectivity.-196656-scaled-2.jpg
END:VEVENT
END:VCALENDAR