BEGIN:VCALENDAR
VERSION:2.0
PRODID:-//JTP - ECPv6.15.17.1//NONSGML v1.0//EN
CALSCALE:GREGORIAN
METHOD:PUBLISH
X-ORIGINAL-URL:https://www.jtpunion.org
X-WR-CALDESC:Akce na JTP
REFRESH-INTERVAL;VALUE=DURATION:PT1H
X-Robots-Tag:noindex
X-PUBLISHED-TTL:PT1H
BEGIN:VTIMEZONE
TZID:Europe/Prague
BEGIN:DAYLIGHT
TZOFFSETFROM:+0100
TZOFFSETTO:+0200
TZNAME:CEST
DTSTART:20240331T010000
END:DAYLIGHT
BEGIN:STANDARD
TZOFFSETFROM:+0200
TZOFFSETTO:+0100
TZNAME:CET
DTSTART:20241027T010000
END:STANDARD
BEGIN:DAYLIGHT
TZOFFSETFROM:+0100
TZOFFSETTO:+0200
TZNAME:CEST
DTSTART:20250330T010000
END:DAYLIGHT
BEGIN:STANDARD
TZOFFSETFROM:+0200
TZOFFSETTO:+0100
TZNAME:CET
DTSTART:20251026T010000
END:STANDARD
BEGIN:DAYLIGHT
TZOFFSETFROM:+0100
TZOFFSETTO:+0200
TZNAME:CEST
DTSTART:20260329T010000
END:DAYLIGHT
BEGIN:STANDARD
TZOFFSETFROM:+0200
TZOFFSETTO:+0100
TZNAME:CET
DTSTART:20261025T010000
END:STANDARD
END:VTIMEZONE
BEGIN:VEVENT
DTSTART;VALUE=DATE:20250504
DTEND;VALUE=DATE:20250505
DTSTAMP:20260425T134513
CREATED:20250115T215934Z
LAST-MODIFIED:20250827T163906Z
UID:9458-1746316800-1746403199@www.jtpunion.org
SUMMARY:Jeronýmský výlet do Čelákovic - Volmanova vila
DESCRIPTION:Pozvánka na jeronýmský výlet do Čelákovic – 4. 5. 2025 \nMilé kolegyně a milí kolegové\, \nI v letošním roce se po Jarním balíčku uskuteční tradiční jeronýmský výlet. Bude se konat ve změněném termínu v neděli 4. května 2025. Naším cílem bude Volmanova vila v Čelákovicích. Toto významné funkcionalistické dílo z konce třicátých let 20. století se Vám možná vybaví v souvislosti s populární taneční soutěží StarDance.  Poslední ročník se částečně odehrával právě tam. \nDo Čelákovic pojedeme osobním vlakem (směr Milovice) z hlavního nádraží v 9:16\, do vlaku můžete přistoupit i ve stanicích Vysočany (9:23)\, Rajská zahrada (9:27) nebo Horní Počernice (9:31). Pokud máte lítačku\, kupte si jízdenku z Horních Počernic do stanice Čelákovice. Volmanova vila se nachází na kraji města\, necelé 2 km od nádraží. Projdeme tedy městem a dojdeme k vile\, kde je objednaná prohlídka v 10:30\, trvá asi 80 minut. Vzhledem ke změně termínu nám bylo vstupné sníženo o 50 % na 175 Kč. \nPo prohlídce se vrátíme do centra a společně poobědváme v cca 12:30 v restauraci U Bohuslavů\, kde jsme už udělali dobrou zkušenost při našem výletu na zámek v Brandýse nad Labem. Z restaurace to již není příliš daleko na nádraží a vlaky zpět do Prahy jezdí každou půlhodinu – 12:09 a 12:39 atd. \nKdo bude mít chuť podniknout pěší výlet\, vydá se s námi na asi 8 km dlouhou cestu podle Labe do Brandýsa\, odkud jezdí třikrát do hodiny autobus k metru Černý Most nebo Letňany. \nPočet míst na prohlídce Volmanovy vily je omezen\, proto prosím\, aby se mi zájemci přihlásili a zároveň mi sdělili\, zda pro ně mám rezervovat místo v restauraci U Bohuslavů. \nNa výlet zveme srdečně všechny\, kdo si chtějí prohlédnout zajímavé architektonické dílo\, projít se jarní přírodou nebo se prostě setkat s kolegy. \nAlena Šourková \nAlena.sourkova@tiscali.cz \n 
URL:https://www.jtpunion.org/udalost/jeronymsky-vylet-do-celakovic-volmanova-vila/
ATTACH;FMTTYPE=image/jpeg:https://www.jtpunion.org/wp-content/uploads/2025/01/Volmanova-vila-1.jpg
END:VEVENT
BEGIN:VEVENT
DTSTART;VALUE=DATE:20250523
DTEND;VALUE=DATE:20250526
DTSTAMP:20260425T134513
CREATED:20241219T141544Z
LAST-MODIFIED:20250827T164239Z
UID:9380-1747958400-1748217599@www.jtpunion.org
SUMMARY:Shromáždění členů JTP + Veřejné zasedání Rady JTP
DESCRIPTION:Milé kolegyně\, milí kolegové\,\ndovolte\, abychom vás srdečně pozvali na letošní valnou hromadu a veřejné zasedání Rady JTP\, tentokrát do severočeských Litoměřic. Jako každým rokem se těšíme\, že se s Vámi sejdeme\, seznámíme Vás s novinkami a plány naší organizace\, vyslechneme Vaše názory a podněty a v neposlední řadě navštívíme další pěkné historické město. Zasedání se bude konat prezenčně v sobotu 24. května 2025 dopoledne.Místo konání:\nHotel Labe Litoměřice\, Vrchlického 292/10\, 412 01 Litoměřice 1\, Tel: 416 735 436\, https://hotellabe.hotel.cz Všichni členové JTP jsou srdečně zváni.Vítáni jsou i rodinní příslušníci a kamarádi\, s nimiž počítáme během doprovodného programu. \nUbytování jsme zamluvili rovněž v hotelu Labe a ceny pokojů jsou následující:\nJednolůžkový pokoj vč. snídaně    700 Kč / noc\nDvoulůžkový pokoj vč. snídaně   1190 Kč / noc\nTřílůžkový pokoj vč. snídaně       1490 Kč / noc\n \nProgram pobytu: \nPátek    23. 5. 2025: \nPříjezd ubytování a volný program\, případně večer společné posezení \nSobota  24. 5. 2025: \n9:30 – 12:30 zasedání v hotelovém salonku \n\nzahájení\nzpráva o činnosti od minulého zasedání\nzpráva o plnění rozpočtu na rok 2024\nzpráva revizní komise\ndiskuse o přednesených zprávách\nschválení návrhu rozpočtu na rok 2025\nrůzné\n\n\n13:00    Společný oběd (dvouchodový 240 Kč / osobu)\n15:30    Prohlídka města s průvodcem\nVečer možnost společné večeře v nějaké příjemné restauraci\n\nNeděle  25. 5. 2025: \nVolný program – pro zájemce plánujeme návštěvu zámku Ploskovice\, odjezd \nVšechny účastníky prosím\, abyste se hlásili co nejdříve a sdělili mi:\nJméno + počet doprovázejících osob\nUbytování na první\, druhou\, nebo obě noci?\nJaký pokoj – jednolůžkový\, dvoulůžkový\, třílůžkový? \nMáte zájem o prohlídku zámku Ploskovice?\nPřípadně další poznámky\, dotazy\, požadavky a omezení.\nNahlaste se prosím\, i když přijedete na otočku\, ať víme\, kolik máme objednat kávy na přestávku a obědů. \nTěšíme se na vás!\nAlena Šourková a celý výbor JTP \nAlena.sourkova@tiscali.cz \n \n\n\n\n\n\n\n\n\n\n\n  \n  \n 
URL:https://www.jtpunion.org/udalost/shromazdeni-clenu-jtp-verejne-zasedani-rady-jtp/
ATTACH;FMTTYPE=image/jpeg:https://www.jtpunion.org/wp-content/uploads/2024/12/Litomerice-1.jpg
END:VEVENT
BEGIN:VEVENT
DTSTART;TZID=Europe/Prague:20250529T093000
DTEND;TZID=Europe/Prague:20250529T160000
DTSTAMP:20260425T134513
CREATED:20250318T182718Z
LAST-MODIFIED:20250827T164946Z
UID:10131-1748511000-1748534400@www.jtpunion.org
SUMMARY:Umělá inteligence a překlad - pro začátečníky - ONLINE celodenní kurz
DESCRIPTION:Pro účastníky a účastnice kurzu je připravený handout a dále praktický seznam předdefinovaných pokynů (promptů). \nLektor: doc. PhDr. Tomáš Svoboda\, Ph.D. garant výuky překladových technologií\, Ústav translatologie\, Univerzita Karlova \nDatum: 29. 5. 2025 (čtvrtek) \nČas: 9:30 – 16:00 (v průběhu kurzu bude zařazena přestávka na oběd) \nMísto: ONLINE (v aplikaci Teams) \nAnotace školení\nTakzvaná umělá inteligence (AI) se stále více rozmáhá a začíná zasahovat do nejrůznějších oblastí\, často v nevídané šíři a nevídanou rychlostí. Nástup tzv. generativní umělé inteligence se nevyhýbá ani překladu. AI dnes umožňuje překládat texty\, ale nabízí i řadu dalších funkcí\, jako je přeformulování textu\, určité stupně kontroly překladu či práce s odbornými termíny. \nŠkolení nabídne dostatek informací i možností praktického nácviku k tomu\, aby se účastníci a účastnice mohli rozhodnout\, zda budou tuto technologii do budoucna používat\, popřípadě aby zjistili\, v čem jim může usnadnit práci. Součástí bude nácvik v systému ChatGPT\, včetně zadávání konkrétních pokynů\, tzv. promptů\, do chatovacího rozhraní. Ukážeme si\, že ChatGPT je víc než překladač – může sloužit jako ‚chytrý‘ překladatelský asistent. \nOsnova\n\nKrátký úvod do problematiky tzv. umělé inteligence pracující na základě modelů LLM: funkce\, potenciál a možná rizika\n*Kvalita strojového překladu v systému Chat GPT ve srovnání s překladači DeepL a Google Translate: rozdíly\, typické chyby\n*Úprava výstupů z DeepL či Google Translate pomocí systému ChatGPT\nPropojení systému ChatGPT s nástroji počítačem podporovaného překladu (CAT): Trados Studio (Trados Copilot)\, Phrase a další.\nDalší užitečné funkce generativní AI v oblasti překladu: před překladem\, během překládání a po překladu\n*Před: extrakce termínů\, analýza originálu\n*Během: Jak může AI pomoct při posteditaci\, funkce přeformulování textu\, překlad na různých stylových rovinách\, úprava rozsahu textu\, hledání odpovídajícího výrazu\n*Po: kontrola překladu pomocí AI: kontrola významu\, čísel\, gramatiky\, pravopisu a další možnosti\nOdborný překlad vs. literární překlad z pohledu využití AI\nRizika AI v oblasti překladu: na co si dávat pozor\nAI a důvěrnost dat\nRozdíly mezi bezplatnou verzí ChatGPT a placenou verzí\nMožnosti tvorby vlastního chatbotu: Vytvoříme si v budoucnu vlastní překladatelský klon?\nJak co nejlépe zdůrazňovat a rozvíjet přednosti\, které má (lidský) překladatel oproti AI?\n\nU bodů programu označených hvězdičkou (*) proběhne praktický nácvik funkcí AI v systému ChatGPT dle nejnovější bezplatné verze. Je doporučeno\, aby účastníci a účastnice kurzu měli předem vytvořený účet u firmy OpenAI\, která systém provozuje (https://chat.openai.com/auth/login). AI lze používat v některých nástrojích CAT\, i mimo tyto nástroje. Práce v nástroji CAT není předmětem školení. Pro účely školení tedy není nutné mít software CAT k dispozici ani s ním umět pracovat. \nŠkolení není vázáno na konkrétní výchozí jazyk. Příklady práce s nástroji AI si účastníci přizpůsobí dle jazykové dvojice\, se kterou nejčastěji pracují. \nPro účastníky a účastnice kurzu je připravený handout a dále praktický seznam předdefinovaných pokynů (promptů) pro různé funkce ChatGPT. Po absolvování účastníci obdrží certifikát o účasti. \nÚčastnický poplatek\n\nPro členy JTP\, ČKTZJ a ASKOT: 1000 Kč \n\n\n \n\nPro členy KST ČR: 2000 Kč\n\n \n\nPro ostatní: 2 800 Kč\n\n \nZájemci se přihlašují e-mailem na sekretariát JTP: jtp@jtpunion.org a uvedou\, že se hlásí na kurz Umělá inteligence a překlad pro začátečníky – ONLINE. \nÚčastnický poplatek lze uhradit prostřednictvím QR kódu výše nebo bankovním převodem: \n– platby z České republiky: č. ú. 2800245144/2010 FIO Banka\, \n– platby ze zahraničí SWIFT/BIC: FIOBCZPPXXX\, IBAN: CZ50 2010 0000 0028 0024 5144. \nV obou případech neopomeňte do zprávy pro příjemce uvést své jméno a název kurzu „UMĚLÁ INTELIGENCE A PŘEKLAD pro začátečníky – ONLINE“. \nPokud požadujete vystavení faktury\, napište nám to ihned\, společně s přihláškou. Účastníkům ze zemí EU nemůžeme vystavit fakturu\, ale rádi vystavíme potvrzení o provedené platbě. \nMaximální počet účastníků je omezen na 30 osob. Akce se bude konat při minimální účasti 12 osob. \nJTP si vyhrazuje právo zrušit kurz kvůli malému počtu zájemců nejpozději 7 dní před jeho konáním a uchazečům\, kteří se přihlásili a zaplatili kurzovné\, bude v plné výši vráceno na jejich účet. \nStorno podmínky\nNa kurz je nutno se přihlásit (a uhradit kurzovné) nejpozději 8 dní před konáním. Pokud účastník zruší svou účast méně než 6 dnů před konáním akce\, nejsme z organizačních důvodů schopni vrátit účastnický poplatek. V případě\, že bude účast stornována dříve než 6 dní před konáním akce\, bude vráceno kurzovné snížené o nevratnou částku ve výši 200 Kč. \nPřihlášení je závazné po úhradě poplatku.
URL:https://www.jtpunion.org/udalost/umela-inteligence-a-preklad-pro-zacatecniky-online-celodenni-kurz/
LOCATION:online
ATTACH;FMTTYPE=image/jpeg:https://www.jtpunion.org/wp-content/uploads/2025/08/AI-a-preklad-29052025-zacatecnici-1.jpg
END:VEVENT
END:VCALENDAR