BEGIN:VCALENDAR
VERSION:2.0
PRODID:-//JTP - ECPv6.15.17.1//NONSGML v1.0//EN
CALSCALE:GREGORIAN
METHOD:PUBLISH
X-ORIGINAL-URL:https://www.jtpunion.org
X-WR-CALDESC:Akce na JTP
REFRESH-INTERVAL;VALUE=DURATION:PT1H
X-Robots-Tag:noindex
X-PUBLISHED-TTL:PT1H
BEGIN:VTIMEZONE
TZID:Europe/Prague
BEGIN:DAYLIGHT
TZOFFSETFROM:+0100
TZOFFSETTO:+0200
TZNAME:CEST
DTSTART:20250330T010000
END:DAYLIGHT
BEGIN:STANDARD
TZOFFSETFROM:+0200
TZOFFSETTO:+0100
TZNAME:CET
DTSTART:20251026T010000
END:STANDARD
BEGIN:DAYLIGHT
TZOFFSETFROM:+0100
TZOFFSETTO:+0200
TZNAME:CEST
DTSTART:20260329T010000
END:DAYLIGHT
BEGIN:STANDARD
TZOFFSETFROM:+0200
TZOFFSETTO:+0100
TZNAME:CET
DTSTART:20261025T010000
END:STANDARD
BEGIN:DAYLIGHT
TZOFFSETFROM:+0100
TZOFFSETTO:+0200
TZNAME:CEST
DTSTART:20270328T010000
END:DAYLIGHT
BEGIN:STANDARD
TZOFFSETFROM:+0200
TZOFFSETTO:+0100
TZNAME:CET
DTSTART:20271031T010000
END:STANDARD
END:VTIMEZONE
BEGIN:VEVENT
DTSTART;TZID=Europe/Prague:20260203T100000
DTEND;TZID=Europe/Prague:20260203T160000
DTSTAMP:20260424T232110
CREATED:20260131T164023Z
LAST-MODIFIED:20260131T164023Z
UID:11509-1770112800-1770134400@www.jtpunion.org
SUMMARY:DEN S PŘEKLADEM
DESCRIPTION:
URL:https://www.jtpunion.org/udalost/den-s-prekladem/
LOCATION:online
ATTACH;FMTTYPE=image/jpeg:https://www.jtpunion.org/wp-content/uploads/2026/01/den-s-prekladem.jpg
END:VEVENT
BEGIN:VEVENT
DTSTART;TZID=Europe/Prague:20260213T150000
DTEND;TZID=Europe/Prague:20260213T183000
DTSTAMP:20260424T232110
CREATED:20260124T140046Z
LAST-MODIFIED:20260124T140046Z
UID:11472-1770994800-1771007400@www.jtpunion.org
SUMMARY:NÁSTROJE AI PRO (LIDSKÉ) TLUMOČENÍ A PŘEKLAD
DESCRIPTION:ASKOT vás srdečně zve na webinář NÁSTROJE AI PRO (LIDSKÉ) TLUMOČENÍ A PŘEKLAD \n🗓 v pátek 13. 2. 2026\, 15–18:30 \n📍online – Zoom (anglicky\, s tlumočením do češtiny) \n🙋‍přihlášky do pondělí 26. 1. 2026 zde\, \nLEKTOŘI: \nMICHELA BERTOZZI a FRANCESCO CECCHI z projektu Cabina Doppia \nMichela a Francesco jsou konferenční tlumočníci\, kteří se věnují dalšímu vzdělávání profesionálních tlumočníků i výuce studentů tlumočení na Boloňské univerzitě. Jejich projekt Cabina Doppia se specializuje na školení pro tlumočníky se zaměřením na moderní technologie. \nDozvíte se: \n✅ jaké jsou specifické nástroje AI pro tlumočení/překlad\, \n✅ jak je nejlépe využít při práci\, \n✅ 7 praktických případových studií\, \n✅ jak řešit související etické otázky\, \n✅ co nás čeká v budoucnosti. \n💸ÚČASTNICKÝ POPLATEK: 1 300 KČ \nČLENOVÉ ASKOT A JTP: 1 000 KČ \n  \n📧 DOTAZY ZASÍLEJTE E-MAILEM NA EDU@ASKOT.CZ \n 
URL:https://www.jtpunion.org/udalost/nastroje-ai-pro-lidske-tlumoceni-a-preklad/
LOCATION:online
ORGANIZER;CN="Asociace konferen%C4%8Dn%C3%ADch tlumo%C4%8Dn%C3%ADk%C5%AF":MAILTO:info@askot.cz
END:VEVENT
BEGIN:VEVENT
DTSTART;TZID=Europe/Prague:20260226T150000
DTEND;TZID=Europe/Prague:20260226T170000
DTSTAMP:20260424T232110
CREATED:20260217T121946Z
LAST-MODIFIED:20260217T122344Z
UID:11674-1772118000-1772125200@www.jtpunion.org
SUMMARY:GRUZIE
DESCRIPTION:Promítání a povídání o návštěvách Gruzie od amatérského světoběžníka Petra Kudrnáče. \nK-centrum\, Senovážné nám. 23\, Praha 1.\nsál 254\, II. patro
URL:https://www.jtpunion.org/udalost/gruzie/
ATTACH;FMTTYPE=image/jpeg:https://www.jtpunion.org/wp-content/uploads/2026/02/Gruzie.jpg
END:VEVENT
BEGIN:VEVENT
DTSTART;TZID=Europe/Prague:20260226T180000
DTEND;TZID=Europe/Prague:20260226T200000
DTSTAMP:20260424T232110
CREATED:20260219T113216Z
LAST-MODIFIED:20260219T113216Z
UID:11696-1772128800-1772136000@www.jtpunion.org
SUMMARY:Webinář: Ochrana osobnosti - Kde jsou hranice svobody projevu (nejen v online prostoru)?
DESCRIPTION:Právní ochrana osobnosti podle českého práva se zvláštním důrazem na problematiku pomluv\, nepravdivých tvrzení a zásahů do cti\, důstojnosti a dobré pověsti fyzických i právnických osob.\nPořádá KST ČR. \nProgram a přihlašování zde:\nhttps://www.kstcr.cz/cz/akce/ochrana-osobnosti-kde-jsou-hranice-svobody-projevu-nejen-v-online-prostoru-webinar \n 
URL:https://www.jtpunion.org/udalost/webinar-ochrana-osobnosti-kde-jsou-hranice-svobody-projevu-nejen-v-online-prostoru/
LOCATION:online
ATTACH;FMTTYPE=image/png:https://www.jtpunion.org/wp-content/uploads/2025/10/KST.png
END:VEVENT
END:VCALENDAR