BEGIN:VCALENDAR
VERSION:2.0
PRODID:-//JTP - ECPv6.15.17.1//NONSGML v1.0//EN
CALSCALE:GREGORIAN
METHOD:PUBLISH
X-ORIGINAL-URL:https://www.jtpunion.org
X-WR-CALDESC:Akce na JTP
REFRESH-INTERVAL;VALUE=DURATION:PT1H
X-Robots-Tag:noindex
X-PUBLISHED-TTL:PT1H
BEGIN:VTIMEZONE
TZID:Europe/Prague
BEGIN:DAYLIGHT
TZOFFSETFROM:+0100
TZOFFSETTO:+0200
TZNAME:CEST
DTSTART:20250330T010000
END:DAYLIGHT
BEGIN:STANDARD
TZOFFSETFROM:+0200
TZOFFSETTO:+0100
TZNAME:CET
DTSTART:20251026T010000
END:STANDARD
BEGIN:DAYLIGHT
TZOFFSETFROM:+0100
TZOFFSETTO:+0200
TZNAME:CEST
DTSTART:20260329T010000
END:DAYLIGHT
BEGIN:STANDARD
TZOFFSETFROM:+0200
TZOFFSETTO:+0100
TZNAME:CET
DTSTART:20261025T010000
END:STANDARD
BEGIN:DAYLIGHT
TZOFFSETFROM:+0100
TZOFFSETTO:+0200
TZNAME:CEST
DTSTART:20270328T010000
END:DAYLIGHT
BEGIN:STANDARD
TZOFFSETFROM:+0200
TZOFFSETTO:+0100
TZNAME:CET
DTSTART:20271031T010000
END:STANDARD
END:VTIMEZONE
BEGIN:VEVENT
DTSTART;VALUE=DATE:20261015
DTEND;VALUE=DATE:20261017
DTSTAMP:20260425T055456
CREATED:20260402T171210Z
LAST-MODIFIED:20260403T102445Z
UID:12404-1792022400-1792195199@www.jtpunion.org
SUMMARY:Umění překladu: odkaz Jiřího Levého a aktuální trendy v translatologii. Konference ke stému výročí narození Jiřího Levého
DESCRIPTION:13. MEZINÁRODNÍ KONFERENCE O PŘEKLADU A TLUMOČENÍ ÚTRL FF UK \nBrzy bude oznámeno prodloužení termínu pro zasílání abstraktů (pravděpodobně do konce dubna). \nVeškeré informace zde níže: \nKompletní informace o konferenci \nEnglish version \n  \n 
URL:https://www.jtpunion.org/udalost/umeni-prekladu-odkaz-jiriho-leveho-a-aktualni-trendy-v-translatologii-konference-ke-stemu-vyroci-narozeni-jiriho-leveho/
ATTACH;FMTTYPE=application/pdf:https://www.jtpunion.org/wp-content/uploads/2026/04/CfP-Levy-CS-1.pdf
END:VEVENT
END:VCALENDAR